BEGIN:VCALENDAR
VERSION:2.0
PRODID:-//Chemnitz City - ECPv6.15.17//NONSGML v1.0//EN
CALSCALE:GREGORIAN
METHOD:PUBLISH
X-ORIGINAL-URL:https://chemnitzcity.de
X-WR-CALDESC:Veranstaltungen für Chemnitz City
REFRESH-INTERVAL;VALUE=DURATION:PT1H
X-Robots-Tag:noindex
X-PUBLISHED-TTL:PT1H
BEGIN:VTIMEZONE
TZID:Europe/Berlin
BEGIN:DAYLIGHT
TZOFFSETFROM:+0100
TZOFFSETTO:+0200
TZNAME:CEST
DTSTART:20180325T010000
END:DAYLIGHT
BEGIN:STANDARD
TZOFFSETFROM:+0200
TZOFFSETTO:+0100
TZNAME:CET
DTSTART:20181028T010000
END:STANDARD
BEGIN:DAYLIGHT
TZOFFSETFROM:+0100
TZOFFSETTO:+0200
TZNAME:CEST
DTSTART:20190331T010000
END:DAYLIGHT
BEGIN:STANDARD
TZOFFSETFROM:+0200
TZOFFSETTO:+0100
TZNAME:CET
DTSTART:20191027T010000
END:STANDARD
BEGIN:DAYLIGHT
TZOFFSETFROM:+0100
TZOFFSETTO:+0200
TZNAME:CEST
DTSTART:20200329T010000
END:DAYLIGHT
BEGIN:STANDARD
TZOFFSETFROM:+0200
TZOFFSETTO:+0100
TZNAME:CET
DTSTART:20201025T010000
END:STANDARD
END:VTIMEZONE
BEGIN:VEVENT
DTSTART;TZID=Europe/Berlin:20191016T190000
DTEND;TZID=Europe/Berlin:20191016T190000
DTSTAMP:20260423T140905
CREATED:20191012T094521Z
LAST-MODIFIED:20191012T094521Z
UID:18982-1571252400-1571252400@chemnitzcity.de
SUMMARY:Umsonst & Drinnen – Mittwochs im Club
DESCRIPTION:Die Weltecho-Clubsaison ist wieder eröffnet!\nWir laden alle Spielwütigen zum Tischtennis\, Kicker und diversen Gesellschafts- und Kartenspielen in den Weltecho Club ein.\nVon 19-23 Uhr gibt es entspannte Musik\, eine gut bestückte Bar\, diverse Snacks und Fun\, Fun\, Fun \nEintritt frei.
URL:https://chemnitzcity.de/event/umsonst-drinnen-mittwochs-im-club/
LOCATION:Chemnitz\, Weltecho\, Annaberger Straße 24\, Chemnitz\, Sachsen\, 09111\, Deutschland
CATEGORIES:Musik,Nightlife
ATTACH;FMTTYPE=image/png:https://chemnitzcity.de/wp-content/uploads/2019/10/wecho_clubsaison.png
END:VEVENT
END:VCALENDAR