BEGIN:VCALENDAR
VERSION:2.0
PRODID:-//Chemnitz City - ECPv6.15.17//NONSGML v1.0//EN
CALSCALE:GREGORIAN
METHOD:PUBLISH
X-WR-CALNAME:Chemnitz City
X-ORIGINAL-URL:https://chemnitzcity.de
X-WR-CALDESC:Veranstaltungen für Chemnitz City
REFRESH-INTERVAL;VALUE=DURATION:PT1H
X-Robots-Tag:noindex
X-PUBLISHED-TTL:PT1H
BEGIN:VTIMEZONE
TZID:Europe/Berlin
BEGIN:DAYLIGHT
TZOFFSETFROM:+0100
TZOFFSETTO:+0200
TZNAME:CEST
DTSTART:20170326T010000
END:DAYLIGHT
BEGIN:STANDARD
TZOFFSETFROM:+0200
TZOFFSETTO:+0100
TZNAME:CET
DTSTART:20171029T010000
END:STANDARD
BEGIN:DAYLIGHT
TZOFFSETFROM:+0100
TZOFFSETTO:+0200
TZNAME:CEST
DTSTART:20180325T010000
END:DAYLIGHT
BEGIN:STANDARD
TZOFFSETFROM:+0200
TZOFFSETTO:+0100
TZNAME:CET
DTSTART:20181028T010000
END:STANDARD
BEGIN:DAYLIGHT
TZOFFSETFROM:+0100
TZOFFSETTO:+0200
TZNAME:CEST
DTSTART:20190331T010000
END:DAYLIGHT
BEGIN:STANDARD
TZOFFSETFROM:+0200
TZOFFSETTO:+0100
TZNAME:CET
DTSTART:20191027T010000
END:STANDARD
END:VTIMEZONE
BEGIN:VEVENT
DTSTART;TZID=Europe/Berlin:20180714T080000
DTEND;TZID=Europe/Berlin:20180714T170000
DTSTAMP:20260422T031311
CREATED:20180712T114019Z
LAST-MODIFIED:20180712T114019Z
UID:14793-1531555200-1531587600@chemnitzcity.de
SUMMARY:Vernissage: Glück im Grundriss * eine Zentralperspektive
DESCRIPTION:Juliane Duda \n\nJuliane Dudas großformatige Fotoarbeiten sind\nantidokumentarisch\, haben ihren eigenen\, selbst\nentwickelten Duktus und handeln oft vom Übergang\nzwischen Architektur und Natur in der speziellen\nPerspektive ihrer digitalen Bildwelten.\nIn dieser Ausstellung wird dazu eine raumbezogene\nInstallation der Künstlerin gezeigt. \nDie Ausstellung ist bis zum 17. August 2018 zu sehen. \nWeitere Info’s zur Veranstaltung und zur Künstlerin hier.
URL:https://chemnitzcity.de/event/vernissage-glueck-im-grundriss-eine-zentralperspektive/
LOCATION:Chemnitz\, Weltecho\, Annaberger Straße 24\, Chemnitz\, Sachsen\, 09111\, Deutschland
CATEGORIES:Ausstellung,Kunst & Kultur
ATTACH;FMTTYPE=image/jpeg:https://chemnitzcity.de/wp-content/uploads/2018/07/ausstellung.jpg
END:VEVENT
END:VCALENDAR