BEGIN:VCALENDAR
VERSION:2.0
PRODID:-//Chemnitz City - ECPv6.15.17//NONSGML v1.0//EN
CALSCALE:GREGORIAN
METHOD:PUBLISH
X-ORIGINAL-URL:https://chemnitzcity.de
X-WR-CALDESC:Veranstaltungen für Chemnitz City
REFRESH-INTERVAL;VALUE=DURATION:PT1H
X-Robots-Tag:noindex
X-PUBLISHED-TTL:PT1H
BEGIN:VTIMEZONE
TZID:Europe/Berlin
BEGIN:DAYLIGHT
TZOFFSETFROM:+0100
TZOFFSETTO:+0200
TZNAME:CEST
DTSTART:20180325T010000
END:DAYLIGHT
BEGIN:STANDARD
TZOFFSETFROM:+0200
TZOFFSETTO:+0100
TZNAME:CET
DTSTART:20181028T010000
END:STANDARD
BEGIN:DAYLIGHT
TZOFFSETFROM:+0100
TZOFFSETTO:+0200
TZNAME:CEST
DTSTART:20190331T010000
END:DAYLIGHT
BEGIN:STANDARD
TZOFFSETFROM:+0200
TZOFFSETTO:+0100
TZNAME:CET
DTSTART:20191027T010000
END:STANDARD
BEGIN:DAYLIGHT
TZOFFSETFROM:+0100
TZOFFSETTO:+0200
TZNAME:CEST
DTSTART:20200329T010000
END:DAYLIGHT
BEGIN:STANDARD
TZOFFSETFROM:+0200
TZOFFSETTO:+0100
TZNAME:CET
DTSTART:20201025T010000
END:STANDARD
END:VTIMEZONE
BEGIN:VEVENT
DTSTART;VALUE=DATE:20190504
DTEND;VALUE=DATE:20190505
DTSTAMP:20260419T164138
CREATED:20190312T102934Z
LAST-MODIFIED:20190312T110133Z
UID:17367-1556928000-1557014399@chemnitzcity.de
SUMMARY:Wilkommen in Chemnitz - Mitmachen
DESCRIPTION:Ein bunter\, multikultureller Kinder- und Familientag im Stadthallenpark Chemnitz\n\nNach den erfolgreichen Veranstaltungen in den Vorjahren findet am 04.05.2019 das 5. Willkommen in Chemnitz statt. Dazu laden wir euch wieder alle recht herzlich ein\, gerne auch als Mitwirkende mit einem Stand (ohne Standgebühr!). Beginn 14:00 Uhr \nIn Kooperation mit zahlreichen Chemnitzer Vereinen\, wie Amnesty International\, Klinke e.V. (Queerbeet) oder der AWO Chemnitz\, wird der Stadthallenpark in einen Ort des interkulturellen Austausches und Miteinanders verwandelt. Ziel ist es die Chemnitzer Vereinsvielfalt sichtbar zu machen sowie Toleranz zwischen Kulturen und Generationen zu fördern. Über 20 teilnehmende Vereine bieten hierfür am 04.05.2018 ein abwechslungsreiches Unterhaltungsprogramm für Jung und Alt. Neben reichlich Zuckerwatte\, Hüpfburgen und Bastelstraße wird auch der Mobile Kinderproberaum und vieles mehr mit dabei sein.\nWie auch im Vorjahr gibt es die Möglichkeit Wünsche und Gedanken für Chemnitz auf einer großen Leinwand zu verewigen.\nKommt vorbei\, bringt Kinder und Großeltern mit und zeigt mit uns GEMEINSAM\, wie BUNTund TOLERANT Chemnitz ist. Wir freuen uns auf euch! \nInteressierte können sich über das Kontaktformular informieren und/oder sich mit dem Anmeldeformular direkt anmelden.
URL:https://chemnitzcity.de/event/wilkommen-in-chemnitz-mitmachen/
LOCATION:Chemnitz\, Stadthallenpark\, Straße der Nationen\, 13\, Chemnitz\, Sachsen\, 09111\, Deutschland
CATEGORIES:Kids,Open Air
ATTACH;FMTTYPE=image/png:https://chemnitzcity.de/wp-content/uploads/2019/03/wilkommeninchemnitz.png
END:VEVENT
END:VCALENDAR