BEGIN:VCALENDAR
VERSION:2.0
PRODID:-//Chemnitz City - ECPv6.15.17//NONSGML v1.0//EN
CALSCALE:GREGORIAN
METHOD:PUBLISH
X-ORIGINAL-URL:https://chemnitzcity.de
X-WR-CALDESC:Veranstaltungen für Chemnitz City
REFRESH-INTERVAL;VALUE=DURATION:PT1H
X-Robots-Tag:noindex
X-PUBLISHED-TTL:PT1H
BEGIN:VTIMEZONE
TZID:Europe/Berlin
BEGIN:DAYLIGHT
TZOFFSETFROM:+0100
TZOFFSETTO:+0200
TZNAME:CEST
DTSTART:20180325T010000
END:DAYLIGHT
BEGIN:STANDARD
TZOFFSETFROM:+0200
TZOFFSETTO:+0100
TZNAME:CET
DTSTART:20181028T010000
END:STANDARD
BEGIN:DAYLIGHT
TZOFFSETFROM:+0100
TZOFFSETTO:+0200
TZNAME:CEST
DTSTART:20190331T010000
END:DAYLIGHT
BEGIN:STANDARD
TZOFFSETFROM:+0200
TZOFFSETTO:+0100
TZNAME:CET
DTSTART:20191027T010000
END:STANDARD
BEGIN:DAYLIGHT
TZOFFSETFROM:+0100
TZOFFSETTO:+0200
TZNAME:CEST
DTSTART:20200329T010000
END:DAYLIGHT
BEGIN:STANDARD
TZOFFSETFROM:+0200
TZOFFSETTO:+0100
TZNAME:CET
DTSTART:20201025T010000
END:STANDARD
END:VTIMEZONE
BEGIN:VEVENT
DTSTART;TZID=Europe/Berlin:20191111T190000
DTEND;TZID=Europe/Berlin:20191111T190000
DTSTAMP:20260425T162306
CREATED:20190915T163542Z
LAST-MODIFIED:20190915T164005Z
UID:18829-1573498800-1573498800@chemnitzcity.de
SUMMARY:5. Traumkonzert
DESCRIPTION:MAN MUSS LIEDTEXTE NICHT LESEN\, NOTEN\, INSTRUMENTE NICHT SEHEN ODER ANFASSEN UND AUCH RHYTHMUS NICHT HÖREN KÖNNEN\, UM TRAUMHAFT ZU MUSIZIEREN.\n\nDER BESONDERE GAST:\nSignSongs der Gebärdenchor vom Berufsbildungswerk Leipzig \nModeration: André Hardt \nDAS TRAUMKONZERT – 11.11.2019\, Stadthalle Chemnitz Junge Künstler mit und ohne Handicap gestalten gemeinsam mit Musikern der Robert-Schumann-Philharmonie wieder einen traumhaften Abend\, der für wahr gewordene Träume steht und ins Träumen geraten lässt. Erleben Sie die Vielfalt unserer Sinne! \n  \nTickets: 18\,00 € / Schüler\, Studenten\, C-Pass-Inhaber 13\,00 €
URL:https://chemnitzcity.de/event/5-traumkonzert/
LOCATION:Chemnitz\, Stadthalle\, Theaterstraße 3\, Chemnitz\, Sachsen\, 09111\, Deutschland
CATEGORIES:Kids,Konzert
ATTACH;FMTTYPE=image/jpeg:https://chemnitzcity.de/wp-content/uploads/2019/09/traumkonzert.jpg
END:VEVENT
BEGIN:VEVENT
DTSTART;VALUE=DATE:20191130
DTEND;VALUE=DATE:20191202
DTSTAMP:20260425T162306
CREATED:20191115T100513Z
LAST-MODIFIED:20191115T130903Z
UID:16204-1575072000-1575244799@chemnitzcity.de
SUMMARY:41. Tage der erzgebirgischen Folklore
DESCRIPTION:Nussknacker und Wichtel locken zur Handwerksschau in die Stadthalle \n\nJahr   für   Jahr   verwandelt  sich  die  Stadthalle  Chemnitz  am  ersten Adventswochenende  in  ein  Weihnachtsland  der  besonderen Art. Zahlreiche erzgebirgische Aussteller   präsentieren  in  den  Foyers  traditionelles Kunsthandwerk\,  hochwertigen  modernen Weihnachtsschmuck und lassen sich in zahlreichen Vorführungen über die Schultern schauen.\nIn  einer  großen  Wichtelwerkstatt  haben  Kinder  die  Möglichkeit\, ihrer Fantasie  freien  Lauf  zu  lassen  und  den  Ausstellern  der Folkloretage nachzueifern  oder  sich  einfach  auf der riesigen Weihnachtsspieluhr eine Runde  mitdrehen  zu  lassen.  Ob in der Weihnachtsbäckerei\, beim Schnitzen oder  Kerzen  ziehen  und  vielem  anderen  mehr\, die Wichtel verkürzen mit spannenden   Mitmachaktionen   den   kleinen   Gästen  das  Warten  in  der Weihnachtszeit.  Außerdem  können  die  Kinder  beim  Weihnachtsmann höchst persönlich die Wunschzettel abgeben.
URL:https://chemnitzcity.de/event/41-tage-der-erzgebirgischen-folklore/
LOCATION:Chemnitz\, Stadthalle\, Theaterstraße 3\, Chemnitz\, Sachsen\, 09111\, Deutschland
CATEGORIES:Kunst & Kultur,Weihnachten
ATTACH;FMTTYPE=image/jpeg:https://chemnitzcity.de/wp-content/uploads/2018/11/folklore_erz_advent.jpg
END:VEVENT
BEGIN:VEVENT
DTSTART;VALUE=DATE:20191130
DTEND;VALUE=DATE:20191203
DTSTAMP:20260425T162306
CREATED:20190613T072557Z
LAST-MODIFIED:20191115T132007Z
UID:18167-1575072000-1575331199@chemnitzcity.de
SUMMARY:10. Folge Weihnachten mit dem Studio W.M.
DESCRIPTION:Öffentliche Generalprobe für die Ostseetournee\n\nDas  Studio W.M. – Werkstatt für Musik und Theater bringt gemeinsam mit der Stadthalle  Chemnitz  die  bezaubernde  und  herzerwärmende  Geschichte vom elfjährigen Waisenmädchen  Annie  als  Familienmusical  auf die Chemnitzer Bühne  –  mit  viel  Abwechslung\,  Humor\,  Ernsthaftigkeit  und  tierischer Unterstützung.  Das  Mädchen  Annie  ist  eine Waise\, die 1933 zusammen mit ihrem  Hund Sandy auf der Suche nach ihren Eltern ist. Ein Zufall führt sie in  das  Haus  des reichen\, aber mürrischen Geschäftsmanns Warbucks. Dieser setzt  eine  hohe  Belohnung  aus\,  um  Annies  Eltern  zu  finden\, was ein raffiniertes  Betrügerpaar  auf  den  Plan ruft. Schließlich erfährt Annie\, dass ihre Eltern längst gestorben sind. Durch ihre liebenswerte Art hat sie aber  längst  das  Herz  von  Mr.  Warbucks erobert\, der sie nun adoptiert. Charles  Strouse schuf\, inspiriert von den Radioschlagern der 1930er Jahre\, eine  fröhliche  Musik\,  die zum Mitsummen einlädt. Der bekannteste Hit ist bis  heute der Song „Tomorrow“. ANNIE gehört zu den erfolgreichen Musicals\, die  nach  einem  Comic  Strip  entstanden\, und erreichte in New York 2.377 Aufführungen.  Es  erhielt  sieben  Tonys  und  den  Preis  der  New Yorker Theaterkritiker für das beste Musical. \nBereits   seit   10  Jahren  veranstaltet  das  Studio  W.M.  jährlich  die Weihnachtsgala  am  1.  Advent in der Stadthalle. Für die 10. Folge hat das Ensemble  unter  Leitung  von Wieland  Müller  mit  ANNIE  ein  besonderes Musicalprojekt für die Vorweihnachtszeit geplant. \nSa.\, 30.11. – Mo.\, 02.12.\, STADTHALLE\nSa.: 17:00 Uhr\,\nSo.: 15:30 Uhr\,\nMo.: 10:00 Uhr (Schülervorstellung)\, Großer Saal
URL:https://chemnitzcity.de/event/studio-w-m-on-tour/
LOCATION:Chemnitz\, Stadthalle\, Theaterstraße 3\, Chemnitz\, Sachsen\, 09111\, Deutschland
CATEGORIES:Musik,Open Air
END:VEVENT
END:VCALENDAR