BEGIN:VCALENDAR
VERSION:2.0
PRODID:-//Chemnitz City - ECPv6.15.17//NONSGML v1.0//EN
CALSCALE:GREGORIAN
METHOD:PUBLISH
X-WR-CALNAME:Chemnitz City
X-ORIGINAL-URL:https://chemnitzcity.de
X-WR-CALDESC:Veranstaltungen für Chemnitz City
REFRESH-INTERVAL;VALUE=DURATION:PT1H
X-Robots-Tag:noindex
X-PUBLISHED-TTL:PT1H
BEGIN:VTIMEZONE
TZID:Europe/Berlin
BEGIN:DAYLIGHT
TZOFFSETFROM:+0100
TZOFFSETTO:+0200
TZNAME:CEST
DTSTART:20180325T010000
END:DAYLIGHT
BEGIN:STANDARD
TZOFFSETFROM:+0200
TZOFFSETTO:+0100
TZNAME:CET
DTSTART:20181028T010000
END:STANDARD
BEGIN:DAYLIGHT
TZOFFSETFROM:+0100
TZOFFSETTO:+0200
TZNAME:CEST
DTSTART:20190331T010000
END:DAYLIGHT
BEGIN:STANDARD
TZOFFSETFROM:+0200
TZOFFSETTO:+0100
TZNAME:CET
DTSTART:20191027T010000
END:STANDARD
BEGIN:DAYLIGHT
TZOFFSETFROM:+0100
TZOFFSETTO:+0200
TZNAME:CEST
DTSTART:20200329T010000
END:DAYLIGHT
BEGIN:STANDARD
TZOFFSETFROM:+0200
TZOFFSETTO:+0100
TZNAME:CET
DTSTART:20201025T010000
END:STANDARD
END:VTIMEZONE
BEGIN:VEVENT
DTSTART;TZID=Europe/Berlin:20190202T180000
DTEND;TZID=Europe/Berlin:20190202T180000
DTSTAMP:20260426T055126
CREATED:20190116T161026Z
LAST-MODIFIED:20190116T161853Z
UID:16685-1549130400-1549130400@chemnitzcity.de
SUMMARY:Chinesischer Nationalcircus - THE GREAT WALL
DESCRIPTION:THE GREAT WALL\n\nDie legendäre Produktionen des Chinesischen Nationalcircus feiert 2019\nihren 30. Geburtstag mit einer fulminanten großen BEST OF-Jubiläumsshow\nunter dem Titel THE GREAT WALL! 30 Top Artisten mit 30 preisgekrönten Acts\nzum 30. Jubiläum und allen inszenatorischen Errungenschaften der letzten 30\nJahre werden diesen ungewöhnlichen Erfolgsweg der chinesischen Akrobatik\nzelebrieren. Es handelt sich bei dieser Inszenierung um eine traditionell\nangelegte Show\, die zwar modern choreographiert ist\, aber dem Zuschauer ein\nklassisches und historisches Chinabild präsentieren wird. Es überzeugen\nChinas beste Akrobatiktalente durch die gelebte Einheit von Körper\, Geist\nund Seele. Ein traditionelles Bühnenbild und farbenfrohe folkloristische\nKostüme aus dem Reich der Mitte runden diese imaginäre Reise in eine andere\nZeit und andere Welt für den Zuschauer.
URL:https://chemnitzcity.de/event/chinesischer-nationalcircus-the-great-wall/
LOCATION:Chemnitz\, Stadthalle\, Theaterstraße 3\, Chemnitz\, Sachsen\, 09111\, Deutschland
CATEGORIES:Entertainment,Kunst & Kultur
ATTACH;FMTTYPE=image/jpeg:https://chemnitzcity.de/wp-content/uploads/2019/01/chniesischer_nationalcircus_stadthalle.jpg
END:VEVENT
BEGIN:VEVENT
DTSTART;TZID=Europe/Berlin:20190203T160000
DTEND;TZID=Europe/Berlin:20190203T160000
DTSTAMP:20260426T055126
CREATED:20190116T161733Z
LAST-MODIFIED:20190116T161733Z
UID:16689-1549209600-1549209600@chemnitzcity.de
SUMMARY:Die Große Gala-Nacht der Operette
DESCRIPTION:Die beliebtesten Operettenmelodien\n\nDie Ära der silbernen und goldenen Operette in einem Programm mit\ninternationalen Star-Solisten\, Ballett und dem Golden Star Orchester. Große\nStimmen\, prachtvolle Kostüme und traumhafte Tanzszenen erwarten Sie zur\n„Großen Gala-Nacht der Operette“ Das Orchester\, auf der Bühne musizierend\,\nlädt ein zu einem Ausflug zu den Klassikern der Operette wie unter anderem:\nDIE FLEDERMAUS\, MASKE IN BLAU\, LAND DES LÄCHELNS\, SCHWARZWALDMÄDEL\, EINE\nNACHT IN VENEDIG\, DIE LUSTIGE WITWE und DIE CSÀRDÀSFÜRSTIN. Eine\nmusikalische Reise zu den Lieblingen der Operette. \nGute zwei Stunden triumphiert die heile Welt der Operette über jede\nAlltagssorge. Große Stimmen begeistern in ihrer ganzen Meisterschaft\, das\nBallett verzaubert mit prachtvollen Kostümen und traumhaften Choreografien.\nEs erklingen Melodien wie NIMM ZIGEUNER DEINE GEIGE\, DIE JULISCHKA AUS\nBUDAPEST\, MY GOLDEN BABY\, FRÜHLINGSSTIMMENWALZER\, ERKLINGEN ZUM TANZE DIE\nGEIGEN\, TANZEN MÖCHT ICH\, OH MEIN PAPA\, WOLGALIED\, ACH WIE SO HERRLICH ZU\nSCHAUN\, REICH MIR ZUM ABSCHIED NOCH EINMAL DIE HÄNDE\, CSARAS KLÄNGE DER\nHEIMAT u.v.m. Madame Operette begrüßt das Publikum persönlich und lädt ein\nzum Spiel mit Grafen und Fürsten\, jungen Verliebten\, ebenso wie zu den\nWirrungen und Irrungen heißer Liebesabenteuer bei Hofe und in den Kammern\nder Zofen. \nEs ist schon etwas ganz Besonderes\, wenn Melodien\, die vor vielen\nJahrzehnten erschaffen wurden\, heute immer noch in Konzertsälen tausende\nBesucher begeistern\, so wie einst die Kompositionen eines Johann Strauß\,\nFranz Lehár\, Emmerich Kálmánn\, Paul Abraham\, Fred Raymond in einem wahren\nSiegeszug durch alle großen Theater Europas Millionen Operettenliebhaber\nverzauberten. Die Operette lebt wie eh und je und erfüllt immer noch\nSehnsucht nach großen Gefühlen und unvergessenen Melodien in einem\neinzigartigen Rausch brillanter Stimmen\, witzigem Spiel und farbiger\nTräume.
URL:https://chemnitzcity.de/event/die-grosse-gala-nacht-der-operette/
LOCATION:Chemnitz\, Stadthalle\, Theaterstraße 3\, Chemnitz\, Sachsen\, 09111\, Deutschland
CATEGORIES:Konzert,Kunst & Kultur
ATTACH;FMTTYPE=image/jpeg:https://chemnitzcity.de/wp-content/uploads/2019/01/operette_stadthalle.jpg
END:VEVENT
BEGIN:VEVENT
DTSTART;TZID=Europe/Berlin:20190216T200000
DTEND;TZID=Europe/Berlin:20190216T200000
DTSTAMP:20260426T055126
CREATED:20190116T163523Z
LAST-MODIFIED:20190116T163558Z
UID:16702-1550347200-1550347200@chemnitzcity.de
SUMMARY:Obacht Miller – SE RETURN OF SE NORMAL ONE
DESCRIPTION:Obacht Miller das neue Programm von Rolf Miller \n\nHier der ausländerfeindliche Syrer\, da der vegane Jäger\, dort Achim\, Jürgen\nund Rolf\, wie immer zu viert im Sixpack\, all inclusive. Alles scheint wie\nimmer\, und bleibt genauso anders. Die Zeiten ändern sich\, Miller bleibt –\ntrocken wie eh und je\, in seiner unnachahmlichen Selbstgefälligkeit. „Me\,\nmyself and I“ – wo ist das Problem\, ich bin mir genug – aber damit reicht\nes jetzt endlich noch lange nicht: OBACHT MILLER – das neue Programm von\nRolf Miller. \nDas Halbsatz-Phänomen zeigt uns erneut\, dass wir nicht alles glauben\ndürfen\, was wir denken…. „Ball flach halten\, kein Problem… ganz ruhig\,\nalles schlimmer äh… wie sich‘s anhört…“ wie immer weiß Miller nicht\,\nwas er sagt\, und meint es genauso\, denn wenn gesicherte Ahnungen in\nspritzwasserdichte Tatsachen münden\, wer erliegt da nicht Millers Charme.\nEben. Und das Ganze auch noch besser wie in echt\, als ob Gerhard Polt im\nAudi A6 neben ihm sitzt. \nRolf Millers Figur kann einfach nicht anders: garantiert oft erreicht und\nnie kopiert. Und bleibt dabei einzigartig wie sie ist\, versprochen. – Keine\nSorge. Er verspricht uns ein Chaos der verqueren Pointen\, mal ums Eck\, mal\ngerade\, mit und ohne Dings\, lehnen Sie sich einfach zurück\, entspannen Sie\nin ihrem Kampfanzug\, und atmen Sie locker aus der Hose – in die Tüte. \nUnd der Satiriker lässt wie immer nichts aus: die Notwendigkeit eines\nAtomkrieges\, das unerlässliche Selfie beim Autobahngaffen\, „äh\, jaaaa\,\nwieso denn nicht?“ – oder Jogis Jungs nach der Putin-WM. Und natürlich wie\nimmer die „fleischfressende Freisprechanlage“ (so nennt Achim vorsichtig\nMillers Ex). Sie: „Und was ist wenn ich morgen sterbe?“ Er: „Freitag.“\nDabei fährt er weiter Cabrio durch die Welt\, überzeugt im Diesel\, denn\nDiesel ist Lebensgefühl.
URL:https://chemnitzcity.de/event/obacht-miller-se-return-of-se-normal-one/
LOCATION:Chemnitz\, Stadthalle\, Theaterstraße 3\, Chemnitz\, Sachsen\, 09111\, Deutschland
CATEGORIES:Komödie
ATTACH;FMTTYPE=image/jpeg:https://chemnitzcity.de/wp-content/uploads/2019/01/stadthalle_rolf_miller.jpg
END:VEVENT
END:VCALENDAR