BEGIN:VCALENDAR
VERSION:2.0
PRODID:-//Chemnitz City - ECPv6.15.17//NONSGML v1.0//EN
CALSCALE:GREGORIAN
METHOD:PUBLISH
X-ORIGINAL-URL:https://chemnitzcity.de
X-WR-CALDESC:Veranstaltungen für Chemnitz City
REFRESH-INTERVAL;VALUE=DURATION:PT1H
X-Robots-Tag:noindex
X-PUBLISHED-TTL:PT1H
BEGIN:VTIMEZONE
TZID:Europe/Berlin
BEGIN:DAYLIGHT
TZOFFSETFROM:+0100
TZOFFSETTO:+0200
TZNAME:CEST
DTSTART:20180325T010000
END:DAYLIGHT
BEGIN:STANDARD
TZOFFSETFROM:+0200
TZOFFSETTO:+0100
TZNAME:CET
DTSTART:20181028T010000
END:STANDARD
BEGIN:DAYLIGHT
TZOFFSETFROM:+0100
TZOFFSETTO:+0200
TZNAME:CEST
DTSTART:20190331T010000
END:DAYLIGHT
BEGIN:STANDARD
TZOFFSETFROM:+0200
TZOFFSETTO:+0100
TZNAME:CET
DTSTART:20191027T010000
END:STANDARD
BEGIN:DAYLIGHT
TZOFFSETFROM:+0100
TZOFFSETTO:+0200
TZNAME:CEST
DTSTART:20200329T010000
END:DAYLIGHT
BEGIN:STANDARD
TZOFFSETFROM:+0200
TZOFFSETTO:+0100
TZNAME:CET
DTSTART:20201025T010000
END:STANDARD
END:VTIMEZONE
BEGIN:VEVENT
DTSTART;TZID=Europe/Berlin:20190413T200000
DTEND;TZID=Europe/Berlin:20190413T200000
DTSTAMP:20260425T003011
CREATED:20181212T190231Z
LAST-MODIFIED:20190331T145836Z
UID:16415-1555185600-1555185600@chemnitzcity.de
SUMMARY:So Delicious mit Dirk Duske
DESCRIPTION:Liebe Gäste\,\nwir laden Sie jetzt schon gern zur nächsten „SO DELICIOUS“ im Oberdeck auf der Tuffner Möbelgalerie in gewohnter Atmosphäre ein. \nEinlass ab 20:00\, Beginn 23:00 Uhr \, strikte Tür P 25! \nFür die Musik ist wieder Dirk Duske am Start mit Classics\, Funky\, Disco & House. Dazu bieten wir gratis als kleinen Appetitshappen frische Brote mit verschiedenen\, frischen\, handgemachten Aufstrichen und Belegen. \nUnser Sortiment an Bieren\, Weinen\, Spirituosen sowie Cocktails und Cocktailsklassikern wird Sie begeistern. \nAufgrund der sehr großen Resonanz bitte per Mail an Info@Oberdeck-Chemnitz.de mit dem Betreff „So Delicious“ vorbestellen. \nDresscode: Stylish\, Smart\, Trés Chic\nP 25\nBegrenzte Personenzahl
URL:https://chemnitzcity.de/event/so-delicious-mit-dirk-duske-2/
LOCATION:Oberdeck\, Chemnitz\, Am Walkgraben\, 13\, Chemnitz\, Sachsen\, 09111\, Deutschland
CATEGORIES:Nightlife
ATTACH;FMTTYPE=image/jpeg:https://chemnitzcity.de/wp-content/uploads/2018/05/30716424_2034014850181055_190327450019868187_n.jpg
END:VEVENT
END:VCALENDAR