BEGIN:VCALENDAR
VERSION:2.0
PRODID:-//Chemnitz City - ECPv6.15.17//NONSGML v1.0//EN
CALSCALE:GREGORIAN
METHOD:PUBLISH
X-WR-CALNAME:Chemnitz City
X-ORIGINAL-URL:https://chemnitzcity.de
X-WR-CALDESC:Veranstaltungen für Chemnitz City
REFRESH-INTERVAL;VALUE=DURATION:PT1H
X-Robots-Tag:noindex
X-PUBLISHED-TTL:PT1H
BEGIN:VTIMEZONE
TZID:Europe/Berlin
BEGIN:DAYLIGHT
TZOFFSETFROM:+0100
TZOFFSETTO:+0200
TZNAME:CEST
DTSTART:20170326T010000
END:DAYLIGHT
BEGIN:STANDARD
TZOFFSETFROM:+0200
TZOFFSETTO:+0100
TZNAME:CET
DTSTART:20171029T010000
END:STANDARD
BEGIN:DAYLIGHT
TZOFFSETFROM:+0100
TZOFFSETTO:+0200
TZNAME:CEST
DTSTART:20180325T010000
END:DAYLIGHT
BEGIN:STANDARD
TZOFFSETFROM:+0200
TZOFFSETTO:+0100
TZNAME:CET
DTSTART:20181028T010000
END:STANDARD
BEGIN:DAYLIGHT
TZOFFSETFROM:+0100
TZOFFSETTO:+0200
TZNAME:CEST
DTSTART:20190331T010000
END:DAYLIGHT
BEGIN:STANDARD
TZOFFSETFROM:+0200
TZOFFSETTO:+0100
TZNAME:CET
DTSTART:20191027T010000
END:STANDARD
END:VTIMEZONE
BEGIN:VEVENT
DTSTART;TZID=Europe/Berlin:20180310T220000
DTEND;TZID=Europe/Berlin:20180310T220000
DTSTAMP:20260426T030426
CREATED:20180308T112022Z
LAST-MODIFIED:20180308T112049Z
UID:12486-1520719200-1520719200@chemnitzcity.de
SUMMARY:Neueröffnung - transit
DESCRIPTION:Sehr geehrte Fahrgäste und Fahrgästinnen\, in Kürze erreichen wir unsere Endhaltestelle Chemnitz – transit. \n\n„Wer Chemnitz kennt\, weiß\, dass diese aufstrebende Stadt im Herzen Europas ihre Gäste mit einzigartiger Clubatmosphäre und vielfältigem Kulturprogramm verwöhnt. Als Schaffner moralischer Schönheit und Servicekraft musikalischen Freigeistes liegt es dem transit am Herzen\, Haltestelle für ein offenes\, kreatives und tolerantes Miteinander zu sein. Der Transitbereich im Kulturbahnhof Chemnitz bietet zukünftig Raum für Clubpartys\, Live-Konzerte\, Kunst\, Vorträge\, Workshops und Performances. …“ (hier weiterlesen!) \nAm 10.03. ist nun große Neueröffnung – Preise bitte an der Abendkasse erfragen. \nbird berlin\nCosmophonic Sound\nDominik Hisslinger\nD.I.S\nDJ Force\nDj Booster\nFelde\nFree-kee\nHandtrax\nOberwasser\nTiney\nThomas Rebsch \nBesonderen Boardservice: \nVisuals / Aero\nLeckereien / MoodsFoods\nBoardservice des Tages / Russischer Ohrenschmaus \n 
URL:https://chemnitzcity.de/event/neueroeffnung-transit/
LOCATION:transit – Kulturbahnhof\, Reichenhainer Straße 1\, Chemnitz\, Sachsen\, 09111\, Deutschland
CATEGORIES:Musik,Nightlife
END:VEVENT
END:VCALENDAR