BEGIN:VCALENDAR
VERSION:2.0
PRODID:-//Chemnitz City - ECPv6.15.17//NONSGML v1.0//EN
CALSCALE:GREGORIAN
METHOD:PUBLISH
X-WR-CALNAME:Chemnitz City
X-ORIGINAL-URL:https://chemnitzcity.de
X-WR-CALDESC:Veranstaltungen für Chemnitz City
REFRESH-INTERVAL;VALUE=DURATION:PT1H
X-Robots-Tag:noindex
X-PUBLISHED-TTL:PT1H
BEGIN:VTIMEZONE
TZID:Europe/Berlin
BEGIN:DAYLIGHT
TZOFFSETFROM:+0100
TZOFFSETTO:+0200
TZNAME:CEST
DTSTART:20170326T010000
END:DAYLIGHT
BEGIN:STANDARD
TZOFFSETFROM:+0200
TZOFFSETTO:+0100
TZNAME:CET
DTSTART:20171029T010000
END:STANDARD
BEGIN:DAYLIGHT
TZOFFSETFROM:+0100
TZOFFSETTO:+0200
TZNAME:CEST
DTSTART:20180325T010000
END:DAYLIGHT
BEGIN:STANDARD
TZOFFSETFROM:+0200
TZOFFSETTO:+0100
TZNAME:CET
DTSTART:20181028T010000
END:STANDARD
BEGIN:DAYLIGHT
TZOFFSETFROM:+0100
TZOFFSETTO:+0200
TZNAME:CEST
DTSTART:20190331T010000
END:DAYLIGHT
BEGIN:STANDARD
TZOFFSETFROM:+0200
TZOFFSETTO:+0100
TZNAME:CET
DTSTART:20191027T010000
END:STANDARD
END:VTIMEZONE
BEGIN:VEVENT
DTSTART;TZID=Europe/Berlin:20181107T193000
DTEND;TZID=Europe/Berlin:20181107T193000
DTSTAMP:20260425T193518
CREATED:20180927T145313Z
LAST-MODIFIED:20180927T145313Z
UID:15571-1541619000-1541619000@chemnitzcity.de
SUMMARY:Zickenzirkus - Eine musikalische Komödie mit Kim Fisher
DESCRIPTION:Eine musikalische Komödie mit Kim Fisher | Gastspiel der Comödie Dresden\n\nManege frei für vier chaotische Damen\, deren Lebenslinien auf einem Schrottplatz am Rande der Stadt zusammenlaufen\, wo Lebenskünstlerin Fe einen alten Zirkuswagen bewohnt. Während Buchhalterin Elke nach einem Missgeschick mit dem Auto ihres Mannes fieberhaft nach einem Ersatzteil sucht\, will Musicaldarstellerin Panagiota hier proben in Ruhe. Mit der ist es jedoch endgültig vorbei\, als Bloggerin und Karaoke-Fan Jennifer auf den Schrottplatz stöckelt. Sie alle eint die Erkenntnis: Man muss Männer so nehmen wie sie sind. Aber Zicken wissen: Man darf sie nicht so lassen! Gesagt\, getan… Der Gute-Laune-Garant mit „flotten Sprüchen und schmissigen Songs“ (DNN) und „Riverboat“-Moderation Kim Fisher in der Hauptrolle zum ersten Mal zu Gast in Chemnitz! \nEINLASS: 18:30 Uhr
URL:https://chemnitzcity.de/event/zickenzirkus-eine-musikalische-komoedie-mit-kim-fisher/
LOCATION:Chemnitz\, Stadthalle\, Theaterstraße 3\, Chemnitz\, Sachsen\, 09111\, Deutschland
CATEGORIES:Entertainment
END:VEVENT
END:VCALENDAR