BEGIN:VCALENDAR
VERSION:2.0
PRODID:-//Chemnitz City - ECPv6.15.17//NONSGML v1.0//EN
CALSCALE:GREGORIAN
METHOD:PUBLISH
X-WR-CALNAME:Chemnitz City
X-ORIGINAL-URL:https://chemnitzcity.de
X-WR-CALDESC:Veranstaltungen für Chemnitz City
REFRESH-INTERVAL;VALUE=DURATION:PT1H
X-Robots-Tag:noindex
X-PUBLISHED-TTL:PT1H
BEGIN:VTIMEZONE
TZID:Europe/Berlin
BEGIN:DAYLIGHT
TZOFFSETFROM:+0100
TZOFFSETTO:+0200
TZNAME:CEST
DTSTART:20180325T010000
END:DAYLIGHT
BEGIN:STANDARD
TZOFFSETFROM:+0200
TZOFFSETTO:+0100
TZNAME:CET
DTSTART:20181028T010000
END:STANDARD
BEGIN:DAYLIGHT
TZOFFSETFROM:+0100
TZOFFSETTO:+0200
TZNAME:CEST
DTSTART:20190331T010000
END:DAYLIGHT
BEGIN:STANDARD
TZOFFSETFROM:+0200
TZOFFSETTO:+0100
TZNAME:CET
DTSTART:20191027T010000
END:STANDARD
BEGIN:DAYLIGHT
TZOFFSETFROM:+0100
TZOFFSETTO:+0200
TZNAME:CEST
DTSTART:20200329T010000
END:DAYLIGHT
BEGIN:STANDARD
TZOFFSETFROM:+0200
TZOFFSETTO:+0100
TZNAME:CET
DTSTART:20201025T010000
END:STANDARD
END:VTIMEZONE
BEGIN:VEVENT
DTSTART;TZID=Europe/Berlin:20190504T140000
DTEND;TZID=Europe/Berlin:20190504T150000
DTSTAMP:20260425T184941
CREATED:20180410T093157Z
LAST-MODIFIED:20190331T171447Z
UID:13257-1556978400-1556982000@chemnitzcity.de
SUMMARY:a wie architektur - Führung zur Geschichte des Kaufhaus Schocken
DESCRIPTION:Führung zur Geschichte des Kaufhaus Schocken\n\nDas spektakuläre Gebäude mit der gebogenen Fassade ist heute Sitz des sächsischen Archäologiemuseums smac. Neben der archäologischen Dauerausstellung widmen sich drei Ausstellungsbereiche der bewegten Geschichte des Kaufhauses. 1927 entworfen von dem international renommierten Architekten Erich Mendelsohn im Auftrag des Warenhauskonzerns der Gebrüder Schocken nahm es sich inmitten der damaligen Gründerzeitbebauung wie ein extra-terrestrisches Objekt aus. Die Führung zur Geschichte des ehemaligen Kaufhaus Schocken und seiner Protagonisten berichtet von Visionen und Tatendrang – aber sie versinnbildlicht auch die deutsch-jüdische Geschichte des 20. Jahrhunderts. \nAusstellungsebene 1\nAnhand unserer 19 einzigartigen Architekturmodelle stellen wir Ihnen Erich Mendelsohn als einen Pionier des „Neuen Bauens“ vor. Wir verknüpfen die Werke mit seiner international geprägten Biografie. Auch das Kaufhaus Schocken entstammt seinem Skizzenbuch. \nAusstellungsebene 2\nDer Warenhauskonzern der Gebrüder Schocken gehörte bis ans Ende der 1930er Jahre zu den größten Kaufhausketten Deutschlands. Leihgaben und Schenkungen ehemaliger Angestellter und Kunden illustrieren die Geschichte des heutigen Museumsgebäudes. \nAusstellungsebene 3\nSalman Schocken lernen Sie als einen wissbegierigen Menschen\, leidenschaftlichen Sammler und engagierten Zionisten kennen. Das Programm seines Buchverlages bot vielen Juden in der NS-Zeit einen geistigen Rückhalt. \nDauer 60 Minuten\nTermine jeden Samstag um 14.00 Uhr\nBarrierefrei 4x im Jahr begleitet eine Gebärdendolmetscherin diese Führung | Infos\nKosten Teilnahme kostenfrei\nBitte melden Sie sich beim Erwerb Ihrer Eintrittskarte an der Kasse zur Führung an.
URL:https://chemnitzcity.de/event/a-wie-architektur-fuehrung-zur-geschichte-des-kaufhaus-schocken-2-2-2/
LOCATION:smac Chemnitz\, Stefan-Heym-Platz\,1\, Chemnitz\, Sachsen\, 09111\, Deutschland
CATEGORIES:Führung
ATTACH;FMTTYPE=image/jpeg:https://chemnitzcity.de/wp-content/uploads/2018/04/P1200024.jpg
END:VEVENT
BEGIN:VEVENT
DTSTART;TZID=Europe/Berlin:20190512T140000
DTEND;TZID=Europe/Berlin:20190512T153000
DTSTAMP:20260425T184941
CREATED:20180410T092028Z
LAST-MODIFIED:20190331T171246Z
UID:13246-1557669600-1557675000@chemnitzcity.de
SUMMARY:a wie ausflug - Familienführung zur Archäologie in Sachsen
DESCRIPTION:Familienführung zur Archäologie in Sachsen\n\nEinmal im Monat stellt das smac Kindern ab 6 Jahren\, Jugendlichen und ihren Familien eine wichtige Epoche der Ur- und Frühgeschichte vor. Am Ende des Streifzugs gibt es eine Bastelaktion. \nThema zum 10.02.2018:\nMit Ritter Wiprecht durch das Mittelalter\nAktion: Schreiben mit Tinte und Federn\n \nFamilien mit Kindern ab 6 Jahre\nTermin Jeden zweiten Sonntag im Monat\, 14.00 – 15.30 Uhr\nDauer 90 Minuten\nKosten 12 € pro Familie inkl. Eintritt\nBitte melden Sie sich vor Ort an der Kasse zur Führung an
URL:https://chemnitzcity.de/event/a-wie-ausflug-2/
LOCATION:smac Chemnitz\, Stefan-Heym-Platz\,1\, Chemnitz\, Sachsen\, 09111\, Deutschland
CATEGORIES:Führung,Kids
ATTACH;FMTTYPE=image/jpeg:https://chemnitzcity.de/wp-content/uploads/2017/03/smac-1.jpg
END:VEVENT
END:VCALENDAR