BEGIN:VCALENDAR
VERSION:2.0
PRODID:-//Chemnitz City - ECPv6.15.17//NONSGML v1.0//EN
CALSCALE:GREGORIAN
METHOD:PUBLISH
X-WR-CALNAME:Chemnitz City
X-ORIGINAL-URL:https://chemnitzcity.de
X-WR-CALDESC:Veranstaltungen für Chemnitz City
REFRESH-INTERVAL;VALUE=DURATION:PT1H
X-Robots-Tag:noindex
X-PUBLISHED-TTL:PT1H
BEGIN:VTIMEZONE
TZID:Europe/Berlin
BEGIN:DAYLIGHT
TZOFFSETFROM:+0100
TZOFFSETTO:+0200
TZNAME:CEST
DTSTART:20200329T010000
END:DAYLIGHT
BEGIN:STANDARD
TZOFFSETFROM:+0200
TZOFFSETTO:+0100
TZNAME:CET
DTSTART:20201025T010000
END:STANDARD
BEGIN:DAYLIGHT
TZOFFSETFROM:+0100
TZOFFSETTO:+0200
TZNAME:CEST
DTSTART:20210328T010000
END:DAYLIGHT
BEGIN:STANDARD
TZOFFSETFROM:+0200
TZOFFSETTO:+0100
TZNAME:CET
DTSTART:20211031T010000
END:STANDARD
BEGIN:DAYLIGHT
TZOFFSETFROM:+0100
TZOFFSETTO:+0200
TZNAME:CEST
DTSTART:20220327T010000
END:DAYLIGHT
BEGIN:STANDARD
TZOFFSETFROM:+0200
TZOFFSETTO:+0100
TZNAME:CET
DTSTART:20221030T010000
END:STANDARD
END:VTIMEZONE
BEGIN:VEVENT
DTSTART;VALUE=DATE:20210611
DTEND;VALUE=DATE:20210712
DTSTAMP:20260419T200119
CREATED:20210611T114135Z
LAST-MODIFIED:20210611T115715Z
UID:22529-1623369600-1626047999@chemnitzcity.de
SUMMARY:Die Fußball-EM in Chemnitz City
DESCRIPTION:Hier verfolgst Du die Fußball-EM 2021 live!\n\n\n\n\n24 Nationen spielen um den großen Titel! Wir freuen uns\, dass die verschobene UEFA Euro 2020 in diesem Jahr nun stattfinden kann. Vom 11. Juni bis 11. Juli 2021 wird die Fußball Europameisterschaft bei insgesamt 51 Spielen ausgetragen. \nViele unserer Partner übertragen einzelne Spiele davon in ihren Locations\, damit Ihr live dabei sein könnt! Wir haben dazu eine Übersicht erstellt und wünschen Euch viel Spaß beim Mitfiebern. \nLocations mit Live-Übertragung in Chemnitz City \nGastromeile auf der Inneren Klosterstraße \nÜbertragung der Spiele über Flatscreens in ausgewählten Restaurants & Bars der Inneren Klosterstraße in den Rathaus Passagen Chemnitz \nUferstrand \nÜbertragung aller Spiele über eine Leinwand bei typischer Uferstrand-Atmosphäre mit Liegestühlen und Drinks \nMiramar \nÜbertragung aller Spiele über eine 3×5 m große LED-Leinwand im idyllischen Biergarten \nTurm-Brauhaus \nÜbertragung aller Spiele über TV-Geräte\, Brauhaus-Atmosphäre inklusive und ein frisch Gezapftes dürfen natürlich nicht fehlen \nCity Pub \nÜbertragung aller deutschen Spiele auf Großleinwand direkt im Pub \n 
URL:https://chemnitzcity.de/event/die-fussball-em-in-chemnitz-city/
LOCATION:Chemnitz\, Zentrum\, Zentrum\, Chemnitz\, Sachsen\, 09111\, Deutschland
CATEGORIES:Fußball EM
ATTACH;FMTTYPE=image/jpeg:https://chemnitzcity.de/wp-content/uploads/2021/06/fussball-em-chemnitz-city.jpg
END:VEVENT
END:VCALENDAR