BEGIN:VCALENDAR
VERSION:2.0
PRODID:-//Chemnitz City - ECPv6.15.17//NONSGML v1.0//EN
CALSCALE:GREGORIAN
METHOD:PUBLISH
X-WR-CALNAME:Chemnitz City
X-ORIGINAL-URL:https://chemnitzcity.de
X-WR-CALDESC:Veranstaltungen für Chemnitz City
REFRESH-INTERVAL;VALUE=DURATION:PT1H
X-Robots-Tag:noindex
X-PUBLISHED-TTL:PT1H
BEGIN:VTIMEZONE
TZID:Europe/Berlin
BEGIN:DAYLIGHT
TZOFFSETFROM:+0100
TZOFFSETTO:+0200
TZNAME:CEST
DTSTART:20180325T010000
END:DAYLIGHT
BEGIN:STANDARD
TZOFFSETFROM:+0200
TZOFFSETTO:+0100
TZNAME:CET
DTSTART:20181028T010000
END:STANDARD
BEGIN:DAYLIGHT
TZOFFSETFROM:+0100
TZOFFSETTO:+0200
TZNAME:CEST
DTSTART:20190331T010000
END:DAYLIGHT
BEGIN:STANDARD
TZOFFSETFROM:+0200
TZOFFSETTO:+0100
TZNAME:CET
DTSTART:20191027T010000
END:STANDARD
BEGIN:DAYLIGHT
TZOFFSETFROM:+0100
TZOFFSETTO:+0200
TZNAME:CEST
DTSTART:20200329T010000
END:DAYLIGHT
BEGIN:STANDARD
TZOFFSETFROM:+0200
TZOFFSETTO:+0100
TZNAME:CET
DTSTART:20201025T010000
END:STANDARD
END:VTIMEZONE
BEGIN:VEVENT
DTSTART;TZID=Europe/Berlin:20190413T180000
DTEND;TZID=Europe/Berlin:20190413T180000
DTSTAMP:20260426T004642
CREATED:20190312T111910Z
LAST-MODIFIED:20190312T112043Z
UID:17404-1555178400-1555178400@chemnitzcity.de
SUMMARY:14. Große SWING-Gala - Hotel Chemnitz Hof
DESCRIPTION:Unter der Leitung des „Swing King” Andrej Hermlin spielt das SWING DANCE ORCHESTRA Musik aus den 30er Jahren. Die Band hat sich inzwischen zur bedeutendsten und erfolgreichsten Swing Big Band Deutschlands entwickelt. \nAbgerundet wird der Abend mit einem kalt-warmen Galabuffet. \nEinlass: 18.00 Uhr\nBeginn: 19.00 Uhr | Sektempfang\, Livemusik\,\nGalabuffet 105\,00 EUR pro Person \nKartenbestellung unter der Rufnummer 0371 684 0 oder vai E-Mail\nan info@chemnitzer-hof.de \n\n\n\n\nZum Hotel Chemnitzer Hof
URL:https://chemnitzcity.de/event/14-grosse-swing-gala-hotel-chemnitz-hof/
LOCATION:Hotel Chemnitzer Hof\, Theaterpl. 4\, Chemnitz\, Sachsen\, 09111\, Deutschland
CATEGORIES:Musik
ATTACH;FMTTYPE=image/jpeg:https://chemnitzcity.de/wp-content/uploads/2019/03/swinggala_HCH_bb.jpg
END:VEVENT
END:VCALENDAR