BEGIN:VCALENDAR
VERSION:2.0
PRODID:-//Chemnitz City - ECPv6.15.17//NONSGML v1.0//EN
CALSCALE:GREGORIAN
METHOD:PUBLISH
X-WR-CALNAME:Chemnitz City
X-ORIGINAL-URL:https://chemnitzcity.de
X-WR-CALDESC:Veranstaltungen für Chemnitz City
REFRESH-INTERVAL;VALUE=DURATION:PT1H
X-Robots-Tag:noindex
X-PUBLISHED-TTL:PT1H
BEGIN:VTIMEZONE
TZID:Europe/Berlin
BEGIN:DAYLIGHT
TZOFFSETFROM:+0100
TZOFFSETTO:+0200
TZNAME:CEST
DTSTART:20180325T010000
END:DAYLIGHT
BEGIN:STANDARD
TZOFFSETFROM:+0200
TZOFFSETTO:+0100
TZNAME:CET
DTSTART:20181028T010000
END:STANDARD
BEGIN:DAYLIGHT
TZOFFSETFROM:+0100
TZOFFSETTO:+0200
TZNAME:CEST
DTSTART:20190331T010000
END:DAYLIGHT
BEGIN:STANDARD
TZOFFSETFROM:+0200
TZOFFSETTO:+0100
TZNAME:CET
DTSTART:20191027T010000
END:STANDARD
BEGIN:DAYLIGHT
TZOFFSETFROM:+0100
TZOFFSETTO:+0200
TZNAME:CEST
DTSTART:20200329T010000
END:DAYLIGHT
BEGIN:STANDARD
TZOFFSETFROM:+0200
TZOFFSETTO:+0100
TZNAME:CET
DTSTART:20201025T010000
END:STANDARD
END:VTIMEZONE
BEGIN:VEVENT
DTSTART;TZID=Europe/Berlin:20191029T200000
DTEND;TZID=Europe/Berlin:20191029T200000
DTSTAMP:20260425T154305
CREATED:20190915T155639Z
LAST-MODIFIED:20190915T162547Z
UID:18824-1572379200-1572379200@chemnitzcity.de
SUMMARY:ELOY de Jong - "Kopf aus - Herz an (...und tanz! SAMBA)"
DESCRIPTION:Nachdem er 2018 die Charts überrollt und alles in den Schatten gestellt hat\, serviert Eloy de Jong seinen Fans nun einen satten Nachschlag als Sommer-Soundtrack 2019: Der Hitmaker aus Holland kündigt mit einer ultrasonnigen Neuinterpretation der Hitsingle „Kopf aus Herz an“ seine brandneue Tanz-Edition des gleichnamigen #1-Albums an. \nAufregend und aufwendig arrangiert\, hat das Dreamteam de Jong/Geller den programmatischen „Kopf aus Herz an“-Titel für die „… und tanz!“-Version komplett neu interpretiert und auf lässig-sommerlich getrimmt: Inklusive exotischen Klängen\, warmen Bässen\, verspielten Gitarren – so klingt Sunshine-Feeling pur. Wie der Soundtrack zu einemsommerlichen Traum\, erfindet der Holländer auch die Gesangsharmonien neu und verlegt seinen Popschlager-Sound kurzerhand in lässige Latin-Pop-Gefilde. \nMit seinem „Kopf aus Herz an“-Solodebüt sollte der 1973 in Den Haaggeborene Eloy de Jong binnen kürzester Zeit zum größten Newcomer des Jahres 2018 avancieren: Der Schlager-Erstling des einstigen Caught in the Act-Sängers mischte zunächst wochenlang die Spitzenregion der deutschen Charts auf\, um schließlich sogar die #1 zu erobern. Während auch die Goldauszeichnung in Deutschland nur wenige Wochen auf sich warten ließ\, steht das Debüt inzwischen kurz vor Platinstatus.
URL:https://chemnitzcity.de/event/eloy-de-jong-kopf-aus-herz-an-und-tanz-samba/
LOCATION:Chemnitz\, Stadthalle\, Theaterstraße 3\, Chemnitz\, Sachsen\, 09111\, Deutschland
CATEGORIES:Musik
END:VEVENT
END:VCALENDAR