BEGIN:VCALENDAR
VERSION:2.0
PRODID:-//Chemnitz City - ECPv6.15.17//NONSGML v1.0//EN
CALSCALE:GREGORIAN
METHOD:PUBLISH
X-ORIGINAL-URL:https://chemnitzcity.de
X-WR-CALDESC:Veranstaltungen für Chemnitz City
REFRESH-INTERVAL;VALUE=DURATION:PT1H
X-Robots-Tag:noindex
X-PUBLISHED-TTL:PT1H
BEGIN:VTIMEZONE
TZID:Europe/Berlin
BEGIN:DAYLIGHT
TZOFFSETFROM:+0100
TZOFFSETTO:+0200
TZNAME:CEST
DTSTART:20180325T010000
END:DAYLIGHT
BEGIN:STANDARD
TZOFFSETFROM:+0200
TZOFFSETTO:+0100
TZNAME:CET
DTSTART:20181028T010000
END:STANDARD
BEGIN:DAYLIGHT
TZOFFSETFROM:+0100
TZOFFSETTO:+0200
TZNAME:CEST
DTSTART:20190331T010000
END:DAYLIGHT
BEGIN:STANDARD
TZOFFSETFROM:+0200
TZOFFSETTO:+0100
TZNAME:CET
DTSTART:20191027T010000
END:STANDARD
BEGIN:DAYLIGHT
TZOFFSETFROM:+0100
TZOFFSETTO:+0200
TZNAME:CEST
DTSTART:20200329T010000
END:DAYLIGHT
BEGIN:STANDARD
TZOFFSETFROM:+0200
TZOFFSETTO:+0100
TZNAME:CET
DTSTART:20201025T010000
END:STANDARD
END:VTIMEZONE
BEGIN:VEVENT
DTSTART;TZID=Europe/Berlin:20191007T170000
DTEND;TZID=Europe/Berlin:20191007T170000
DTSTAMP:20260425T223115
CREATED:20191005T081928Z
LAST-MODIFIED:20191005T081928Z
UID:18925-1570467600-1570467600@chemnitzcity.de
SUMMARY:CHEMNITZ MEETS BERLIN AFTER-WORK-PARTY
DESCRIPTION:AFTER-WORK-PARTY ZUR ERÖFFNUNG DER WANDERAUSSTELLUNG DES DEUTSCHEN BUNDESTAGES VOM 7. BIS 11. OKTOBER 2019 IN CHEMNITZ\n\nDemokratie erleben mit den vier Chemnitzer Bundestagsabgeordneten im RATHAUS PASSAGEN Innenhof – Zugang über Jakobikirchplatz 2-4\, 09111 Chemnitz: Mo.\, 7. Oktober 2019\, ab 17:00 Uhr! \nLive-Kunst-Performance mit der Chemnitzer Künstlerin Denise Kendzia \nTriff Deine Bundestagsabgeordneten! Im Rahmen unserer „Stehtischdialoge“ werden Dir die vier Chemnitzer Bundestagsabgeordneten Frank Heinrich (CDU)\, Michael Leutert (Die Linke)\, Detlef Müller (SPD) und Frank Müller-Rosentritt (FDP) für Gespräche zur Verfügung stehen. Erfahre im Rahmen der Wanderausstellung mehr darüber\, wie unsere Demokratie funktioniert und lerne die Geschichte und die Aufgaben des Deutschen Bundestages kennen. Bei Currywurst und Berliner Kindl (auf Selbstzahlerbasis) möchten wir gemeinsam mit Dir netzwerken\, kommunizieren und diskutieren. Freu Dich auf einen entspannten Abend in lockerer Atmosphäre mit Special Guest Torsten Katzschner\, alias TOKA\, der für den musikalischen Rahmen sorgt sowie auf ein besonderes Highlight: Eine Live-Kunst-Performance mit der ChemnitzerKünstlerinDenise Kendzia\, alias D.K.s-Art. Wir freuen uns auf Dich!
URL:https://chemnitzcity.de/event/chemnitz-meets-berlin-after-work-party/
LOCATION:Chemnitz\, Rathaus Passagen\, Innere Klosterstr.\, Chemnitz\, Sachsen\, 09111\, Deutschland
CATEGORIES:Ausstellung
ATTACH;FMTTYPE=image/jpeg:https://chemnitzcity.de/wp-content/uploads/2019/10/20191007_Einladung-CHEMNITZMEETSBERLIN-1.jpg
END:VEVENT
END:VCALENDAR