BEGIN:VCALENDAR
VERSION:2.0
PRODID:-//Chemnitz City - ECPv6.15.17//NONSGML v1.0//EN
CALSCALE:GREGORIAN
METHOD:PUBLISH
X-ORIGINAL-URL:https://chemnitzcity.de
X-WR-CALDESC:Veranstaltungen für Chemnitz City
REFRESH-INTERVAL;VALUE=DURATION:PT1H
X-Robots-Tag:noindex
X-PUBLISHED-TTL:PT1H
BEGIN:VTIMEZONE
TZID:Europe/Berlin
BEGIN:DAYLIGHT
TZOFFSETFROM:+0100
TZOFFSETTO:+0200
TZNAME:CEST
DTSTART:20190331T010000
END:DAYLIGHT
BEGIN:STANDARD
TZOFFSETFROM:+0200
TZOFFSETTO:+0100
TZNAME:CET
DTSTART:20191027T010000
END:STANDARD
BEGIN:DAYLIGHT
TZOFFSETFROM:+0100
TZOFFSETTO:+0200
TZNAME:CEST
DTSTART:20200329T010000
END:DAYLIGHT
BEGIN:STANDARD
TZOFFSETFROM:+0200
TZOFFSETTO:+0100
TZNAME:CET
DTSTART:20201025T010000
END:STANDARD
BEGIN:DAYLIGHT
TZOFFSETFROM:+0100
TZOFFSETTO:+0200
TZNAME:CEST
DTSTART:20210328T010000
END:DAYLIGHT
BEGIN:STANDARD
TZOFFSETFROM:+0200
TZOFFSETTO:+0100
TZNAME:CET
DTSTART:20211031T010000
END:STANDARD
END:VTIMEZONE
BEGIN:VEVENT
DTSTART;TZID=Europe/Berlin:20200110T200000
DTEND;TZID=Europe/Berlin:20200110T200000
DTSTAMP:20260423T230920
CREATED:20200103T155521Z
LAST-MODIFIED:20200103T155521Z
UID:19540-1578686400-1578686400@chemnitzcity.de
SUMMARY:The show goes on - Eine Hommage an den legendären Freddie Mercury
DESCRIPTION:God save the Queen\n\nQueen ist eine der größten Rockbands aller Zeiten. „We are the Champions“ sang der einzigartige Freddie Mercury bereits in den 70ern – und Freddie\, die Diva des Rock\, hinterlässt eine enorme Beliebtheit bei Millionen von Fans. So wählten ihn die Leser der Zeitschrift „Classic Rock“ im Jahr 2009 zum besten Sänger aller Zeiten. Aber auch seine Qualitäten als Komponist waren außergewöhnlich\, das belegen Welthits wie: „Bohemian Rhapsody“\, „Crazy little Thing“\, „Don´t Stop me now“ u.v.m. God Save The Queen – versetzt Sie zurück in die großartige Atmosphäre eines Queen Konzertes. Erleben Sie Freddie und Queen vor Ihren Augen! Der Sänger und Performer Harry Rose gleicht Freddie nicht nur optisch mit seinen authentischen Outfits haargenau. Seine Stimme ähnelt der des großen Vorbilds in Klang\, Umfang und Kraft in verblüffender Weise. Unterstützt durch seine erstklassige Band\, lässt die energiegeladene Performance mit Charme\, Gefühl und Spielfreude den britischen Superstar wieder auferstehen und feiert ihn zugleich. Lassen Sie sich begeistern von einer aufwendigen Bühnenshow\, dem einzigartigen Queen-Sound\, live gespielt auf originalgetreuen Instrumenten und unterstützt von einer authentischen Lichtshow. Machen Sie eine Zeitreise in die 70er und 80er\, der großen Ära von Queen und ihren unvergesslichen Hymnen. Erleben Sie emotionale Momente\, lassen Sie sich „rocken“ und feiern Sie mit dieser phantastischen Show den unvergleichlichen Freddie Mercury und seine Band. God Save The Queen!
URL:https://chemnitzcity.de/event/the-show-goes-on-eine-hommage-an-den-legendaeren-freddie-mercury/
LOCATION:Chemnitz\, Stadthalle\, Theaterstraße 3\, Chemnitz\, Sachsen\, 09111\, Deutschland
CATEGORIES:Konzert,Musik
ATTACH;FMTTYPE=image/jpeg:https://chemnitzcity.de/wp-content/uploads/2020/01/freeddy.jpeg
END:VEVENT
END:VCALENDAR