BEGIN:VCALENDAR
VERSION:2.0
PRODID:-//Chemnitz City - ECPv6.15.17//NONSGML v1.0//EN
CALSCALE:GREGORIAN
METHOD:PUBLISH
X-WR-CALNAME:Chemnitz City
X-ORIGINAL-URL:https://chemnitzcity.de
X-WR-CALDESC:Veranstaltungen für Chemnitz City
REFRESH-INTERVAL;VALUE=DURATION:PT1H
X-Robots-Tag:noindex
X-PUBLISHED-TTL:PT1H
BEGIN:VTIMEZONE
TZID:Europe/Berlin
BEGIN:DAYLIGHT
TZOFFSETFROM:+0100
TZOFFSETTO:+0200
TZNAME:CEST
DTSTART:20200329T010000
END:DAYLIGHT
BEGIN:STANDARD
TZOFFSETFROM:+0200
TZOFFSETTO:+0100
TZNAME:CET
DTSTART:20201025T010000
END:STANDARD
BEGIN:DAYLIGHT
TZOFFSETFROM:+0100
TZOFFSETTO:+0200
TZNAME:CEST
DTSTART:20210328T010000
END:DAYLIGHT
BEGIN:STANDARD
TZOFFSETFROM:+0200
TZOFFSETTO:+0100
TZNAME:CET
DTSTART:20211031T010000
END:STANDARD
BEGIN:DAYLIGHT
TZOFFSETFROM:+0100
TZOFFSETTO:+0200
TZNAME:CEST
DTSTART:20220327T010000
END:DAYLIGHT
BEGIN:STANDARD
TZOFFSETFROM:+0200
TZOFFSETTO:+0100
TZNAME:CET
DTSTART:20221030T010000
END:STANDARD
END:VTIMEZONE
BEGIN:VEVENT
DTSTART;VALUE=DATE:20210122
DTEND;VALUE=DATE:20210719
DTSTAMP:20260423T110921
CREATED:20180906T131222Z
LAST-MODIFIED:20210310T143935Z
UID:15362-1611273600-1626652799@chemnitzcity.de
SUMMARY:STADT. Zwischen Skyline und Latrine
DESCRIPTION:Sonderausstellung im smac – Staatliches Museum für Archäologie Chemnitz. \nMarienberg oder New York? Uruk oder Damaskus?\nAthen oder Rom? Wien oder Wuppertal? \nÜber Städte kann man wunderbar streiten. Was aber macht eine Stadt zur Stadt? Antworten gibt es so viele wie Städte: Tempel\, Rathaus\, Mauer und Markt\, hohe Skylines und tiefe Straßenschluchten\, schnelles Internet oder das Zusammenleben auf engem Raum sind nur einige Beispiele. Städte können als Orte der Vielfalt\, Kreativität und Verdichtung\, aber auch der Konflikte erlebt werden.\nFest steht: Die Stadt ist und bleibt eine der spektakulärsten Errungenschaften der Menschheit. \nOstern 2021 eröffnet das smac deshalb die Ausstellung „DIE STADT. Zwischen Skyline und Latrine“. Es geht um die Stadt als kulturübergreifendes Phänomen und zentraler Ort in komplexen Gesellschaften. Ausgangspunkt ist die sächsische Stadtarchäologie\, die Schichten und Spuren freilegt\, welche unsere Städte oft bis heute prägen. Exponate kommen aus Städten des Zweistromlandes\, der klassischen Antike\, des Mittelalters\, der Neuzeit und vielleicht sogar der Zukunft.\nFünf Bürgerinnen und Bürger beleuchten darüber hinaus ganz persönliche Aspekte zum Thema Stadt. Ihre Exponate wurden im Rahmen eines Aufrufs zur Mitgestaltung ausgewählt. \nZusammen mit unseren Besucherinnen und Besuchern fragen wir nach Ursprüngen und Fundamenten der heutigen Stadt sowie nach ihrer Zukunft. \nAlle weiteren\, stets aktuellen Informationen im Veranstaltungslink!
URL:https://chemnitzcity.de/event/stadt-zwischen-skyline-und-latrine/
LOCATION:smac Chemnitz\, Stefan-Heym-Platz\,1\, Chemnitz\, Sachsen\, 09111\, Deutschland
CATEGORIES:Kunst & Kultur
ATTACH;FMTTYPE=image/jpeg:https://chemnitzcity.de/wp-content/uploads/2018/09/WSwkFiPQ.jpeg
END:VEVENT
BEGIN:VEVENT
DTSTART;TZID=Europe/Berlin:20210703T100000
DTEND;TZID=Europe/Berlin:20210703T200000
DTSTAMP:20260423T110921
CREATED:20210607T150205Z
LAST-MODIFIED:20210621T082634Z
UID:21331-1625306400-1625342400@chemnitzcity.de
SUMMARY:Fashion Day 2021
DESCRIPTION:Die angesagtesten Trends für den Sommer 2021\n\nEs ist offiziell! Am 03.07. darf unser Fashion Day in der Chemnitzer City stattfinden! \n\n\n \n\n\nDann heißt es wieder Alle: „Hallo Sommer\, wir lieben deine Farben!“\, denn die Händler und Modehäuser der City möchten Vielfalt in die häuslichen Kleiderschränke bringen. \n\n\nDer bunte und inspirierende Fashion Day ist somit “Startschuss” für die Sommer-Saison und präsentiert die angesagten Looks 2021. \n\n\n \n\n\nDer Fashion Day wird durch die Händler der Innenstadt präsentiert\, welche tolle Inhouse-Aktionen für Euch vorbereitet haben. \n\nTeilnehmende Standorte: Galerie Roter Turm\, Rathaus Passagen\, Rosenhof\, Peek&Cloppenburg* \n\n\n\n\nZur Veranstaltungsseite
URL:https://chemnitzcity.de/event/fashion-day-2021/
LOCATION:Chemnitz\, Zentrum\, Zentrum\, Chemnitz\, Sachsen\, 09111\, Deutschland
CATEGORIES:Entertainment,Fashion,Lifestyle,Sales
ATTACH;FMTTYPE=image/jpeg:https://chemnitzcity.de/wp-content/uploads/2021/06/Fashioday-Startslider.jpg
ORGANIZER;CN="Exclusiv Events":MAILTO:info@exclusiv-events.com
END:VEVENT
BEGIN:VEVENT
DTSTART;TZID=Europe/Berlin:20210717T140000
DTEND;TZID=Europe/Berlin:20210717T173000
DTSTAMP:20260423T110921
CREATED:20210716T062021Z
LAST-MODIFIED:20210716T085917Z
UID:18580-1626530400-1626543000@chemnitzcity.de
SUMMARY:Sehe ich anders ... Das Festival der Meinungsverschiedenheit
DESCRIPTION:Ein Nachmittag für den persönlichen Austausch zu Themen\, welche die Bürgerinnen und Bürger der Stadt Chemnitz derzeit bewegen\n\nDas Dialogformat „Sehe ich anders – Das Festival der Meinungsverschiedenheit“ bietet am 17. Juli 2021 im Stadthallenpark die Möglichkeit\, sich für seine Stadt und seine Mitmenschen einzubringen. \nDas Veranstalter-Team lädt zur dritten Auflage des Diskussionsformates „Sehe ich anders – Das Festival der Meinungsverschiedenheit“ in den Stadthallenpark ein. Bürger:innen können sich hier zu Themen austauschen\, die sie persönlich und in ihrer Stadt bewegen. Dazu wird der Stadthallenpark als kleines „Outdoor-Café“ mit einzelnen Tischen und Stühlen bestuhlt. „Es ist wichtig\, sich Zeit zu nehmen\, einander zuzuhören. Die Menschen wollen ihre Stadt voranbringen und sich einbringen. Es freut mich sehr\, wenn unser Veranstaltungsformat dafür eine Plattform bieten kann.“ ist Dr. Ralf Schulze\, Initiator und Veranstalter überzeugt. \nJede Gesprächsrunde wird von einer/m „Tischmoderator:in“ geleitet. Die „Tischmoderator:innen“ werden von der Professur Allgemeine und Biopsychologie der Technischen Universität Chemnitz im Vorfeld geschult. „An den Tischen herrschte in den vergangenen Jahren eine gute Gesprächsatmosphäre zu den vielfältigsten Themen.“ berichtet Annett Meylan\, wissenschaftliche Mitarbeiterin der Professur Allgemeine und Biopsychologie der Technischen Universität Chemnitz. „Eine breite und lebhafte Diskussion über eine gemeinsame Vision für die Zukunft der Stadt Chemnitz findet hier durchaus statt.“ Eine Botschaft auf einer Wolke machte besonders Mut und verdeutlicht das Engagement der Menschen: Chemnitz lohnt sich! Desto mehr wir für die Stadt machen\, desto mehr bekommen wir zurück. \nAlle Anregungen dieses Nachmittages werden von der Stadtverwaltung aufgenommen und fließen in die Planungsprozesse der Stadt Chemnitz ein. \nÜber das Dialogformat\nDas Dialogformat ist eine Kooperation von der C³ Chemnitzer Veranstaltungszentren GmbH\, der Stadt Chemnitz und der Professur Allgemeine und Biopsychologie der Technischen Universität Chemnitz. Interessierte können im Chemnitzer Stadthallenpark miteinander ins Gespräch kommen. Das Festival der Meinungsverschiedenheit fand 2019 erstmals statt und war ein Versuch\, die Mauern innerhalb der Stadt zu überwinden – durch Zuhören und Verstehen. \nHinweise zum Ablauf:\n\nab 14:00 Uhr:        Beginn der Anmeldung der Gäste – Zuordnung der Teilnehmer:innen findet im Losverfahren statt\, pro Tisch werden jeweils vier Gäste und ein/e Tischgastgeber:in zusammenkommen\n15:00 Uhr:             Begrüßung und Erklärung des Ablaufs\n15:15 Uhr:             1. Gesprächsrunde á 45 Minuten\n16:00 Uhr:             Pause\n16:15 Uhr:             2. Gesprächsrunde á 45 Minuten\n17:00 Uhr:             Die wichtigsten Erkenntnisse aus den Gesprächen bzw. der einzelnen Tische werden für alle sichtbar dokumentiert\nbis 18:00 Uhr:       Ausklang der Veranstaltung\n\nInteressierte\, die sich gern während der Veranstaltung bzw. zu einem späteren Zeitpunkt in die Gespräche einbringen möchten\, melden sich bitte an der Anmeldung.
URL:https://chemnitzcity.de/event/sehe-ich-anders-das-festival-der-meinungsverschiedenheit/
LOCATION:Chemnitz\, Stadthallenpark\, Straße der Nationen\, 13\, Chemnitz\, Sachsen\, 09111\, Deutschland
CATEGORIES:Open Air
ATTACH;FMTTYPE=image/jpeg:https://chemnitzcity.de/wp-content/uploads/2019/08/20190824-seh-ich-anders_54_92478_orig.jpg
END:VEVENT
BEGIN:VEVENT
DTSTART;VALUE=DATE:20210723
DTEND;VALUE=DATE:20210816
DTSTAMP:20260423T110922
CREATED:20210715T060045Z
LAST-MODIFIED:20210716T084255Z
UID:11140-1626998400-1629071999@chemnitzcity.de
SUMMARY:32. Chemnitzer Weindorf
DESCRIPTION:Sommer in Chemnitz – Das ist seit 32 Jahren auch Weingenuss mitten in der Stadt.\nDenn vom 23. Juli bis 15. August wird die Innenstadt\, an voraussichtlich wieder 3 Standorten\, zum großen Genuss mit 19 verschiedenen Weingütern einladen. Entdecke die beste Vielfalt der leckersten Weine und kulinarischen Highlights\, natürlich bei traumhaftem Ambiente mit bester Unterhaltung. \nBis zu 999 Besucher:innen dürfen auf dem gesamten Gelände in diesem Jahr planmäßig gleichzeitig – natürlich mit Abstand – aber vor allem OHNE Maske die begehrten Plätze für sich sichern. \nAlle Informationen zum Buchungstool\, Reservierungen\, Kontaktverfolgung\, zum Hygienekonzept und mehr erfahrt Ihr auf der Veranstaltungsseite. \n\nWir freuen uns gemeinsam mit allen Veranstalter:innen\, Winzer:innen\, Oberbürgermeister Sven Schulze und natürlich den Organisator:innen auf viele tolle Stunden!
URL:https://chemnitzcity.de/event/chemnitzer-weindorf/
LOCATION:Chemnitz\, Zentrum\, Zentrum\, Chemnitz\, Sachsen\, 09111\, Deutschland
CATEGORIES:Entertainment,Genuss,Open Air
ATTACH;FMTTYPE=image/jpeg:https://chemnitzcity.de/wp-content/uploads/2021/07/weindorf-2021-chemnitz.jpg
END:VEVENT
END:VCALENDAR